BEGIN:VCALENDAR
VERSION:2.0
PRODID:-//Oakley Pedalers Cycling Club - ECPv6.0.11//NONSGML v1.0//EN
CALSCALE:GREGORIAN
METHOD:PUBLISH
X-ORIGINAL-URL:https://www.oakleypedalers.co.uk
X-WR-CALDESC:Events for Oakley Pedalers Cycling Club
REFRESH-INTERVAL;VALUE=DURATION:PT1H
X-Robots-Tag:noindex
X-PUBLISHED-TTL:PT1H
BEGIN:VTIMEZONE
TZID:UTC
BEGIN:STANDARD
TZOFFSETFROM:+0000
TZOFFSETTO:+0000
TZNAME:UTC
DTSTART:20230101T000000
END:STANDARD
END:VTIMEZONE
BEGIN:VEVENT
DTSTART;TZID=UTC:20230915T080000
DTEND;TZID=UTC:20230917T170000
DTSTAMP:20260425T155646
CREATED:20230417T072131Z
LAST-MODIFIED:20230718T082446Z
UID:4240-1694764800-1694970000@www.oakleypedalers.co.uk
SUMMARY:OP Weekender Away 2023: Shropshire
DESCRIPTION:Friday 15th to Sunday 17th Sept 2023 \nOur OP Weekender for 2023 will be hosted at the beautifully restored water mill in the Shropshire village of Clun.  The venue is set in the countryside and  retains much of its rustic\, industrial charm\, with exposed beams\, stripped timber floors and old machinery still in place\, giving the hostel plenty of character. \nThe venue has been recommended as a great base for visitors on walking and cycling holidays\, looking to explore the unspoilt landscape\, hill forts\, castles and picturesque market towns nearby. \nDetails and Route coming soon… \nRides & Routes are being developed by our in-house expert with local knowledge (aka Andrew Housden) and these will have something for everyone whether you’re a social\, inter or advanced rider. The typical format of these weekends is to travel on Friday with the main ride on Saturday followed by a Pigwich on Sunday\, travelling back later on Sunday. \nAccommodation:\nYHA\, Clun Mill\, The Craven Arms\, Shropshire\, SY7 8NY.\nCost: £63.00 per person for the weekend (2 nights). \nThis event is open to all Oakley Pedalers members.\nAway Day events are offered up in addition to the standard Saturday rides which are still available to ride.
URL:https://www.oakleypedalers.co.uk/event/op-weekender-away-2023/
LOCATION:YHA\, Clun\, Craven Arms\, Clun\, Shropshire\, SY7 8NY\, United Kingdom
CATEGORIES:Awayday
ATTACH;FMTTYPE=image/jpeg:https://www.oakleypedalers.co.uk/wp-content/uploads/2023/04/YHA_Clun_Mill_Exterior.jpg
ORGANIZER;CN="OP%20Committee":MAILTO:info@oakleypedalers.co.uk
END:VEVENT
BEGIN:VEVENT
DTSTART;TZID=UTC:20230923T090000
DTEND;TZID=UTC:20230923T150000
DTSTAMP:20260425T155646
CREATED:20230417T071337Z
LAST-MODIFIED:20230921T085427Z
UID:4236-1695459600-1695481200@www.oakleypedalers.co.uk
SUMMARY:Super Saturday Climbing Challenge 2023.
DESCRIPTION:The Super Saturday Climbing Challenge has been rescheduled for Saturday 23rd Sept 2023\nSuper Saturday Climbing Challenge: Butser Hill \nOur Super Saturday climbing challenge has been laid down by Martyn Kimberley who had plotted a formidable route with lots of local hills for us to climb. So whether you are climbing for fun\, or trying to collect a bunch of KOMs / QoMs we hope you will join us and support this super event. \nSocial Route 63 miles 3110 ft\nCoffee stop at mile 32 at The Butser Hill Cafe\, Butser Hill Nature Reserve. \n \nAdvanced/Inter  Route 86 miles 4875 ft\nCoffee stop at mile 41 at The Butser Hill Cafe\, Butser Hill Nature Reserve. \n \nThere is an option for second coffee stop at Alresford on the way back for these in need of additional caffeine. \nThis event is open to all Oakley Pedalers members.\nAway Day events are offered up in addition to the standard Saturday rides which are still available to ride.
URL:https://www.oakleypedalers.co.uk/event/super-saturday-climbing-challenge-2023/
LOCATION:Oakley Pedalers HQ\, The School Lay-by\, Oakley Lane\, Oakley\, Hants\, RG23 7JZ\, United Kingdom
CATEGORIES:Super Saturday
ATTACH;FMTTYPE=image/jpeg:https://www.oakleypedalers.co.uk/wp-content/uploads/2023/04/Butser-Hill-Coffee-Shop.jpg
ORGANIZER;CN="OP%20Committee":MAILTO:info@oakleypedalers.co.uk
END:VEVENT
END:VCALENDAR