BEGIN:VCALENDAR
VERSION:2.0
PRODID:-//Oakley Pedalers Cycling Club - ECPv6.0.11//NONSGML v1.0//EN
CALSCALE:GREGORIAN
METHOD:PUBLISH
X-WR-CALNAME:Oakley Pedalers Cycling Club
X-ORIGINAL-URL:https://www.oakleypedalers.co.uk
X-WR-CALDESC:Events for Oakley Pedalers Cycling Club
REFRESH-INTERVAL;VALUE=DURATION:PT1H
X-Robots-Tag:noindex
X-PUBLISHED-TTL:PT1H
BEGIN:VTIMEZONE
TZID:UTC
BEGIN:STANDARD
TZOFFSETFROM:+0000
TZOFFSETTO:+0000
TZNAME:UTC
DTSTART:20230101T000000
END:STANDARD
END:VTIMEZONE
BEGIN:VEVENT
DTSTART;TZID=UTC:20230520T090000
DTEND;TZID=UTC:20230520T150000
DTSTAMP:20260425T220544
CREATED:20230408T063008Z
LAST-MODIFIED:20230514T152738Z
UID:4204-1684573200-1684594800@www.oakleypedalers.co.uk
SUMMARY:Spring 2023 Awayday: Berkshire\, Oxfordshire Borders
DESCRIPTION:Our first Away Day for 2023 will be on Saturday 20 May and is located just a few miles away north of Newbury in the beautiful Berkshire countryside. The event is local enough for easy access to all members so we hope that as many of you as possible will join us. \nParking is free and is at the Boxford Village Hall car park. There is a 2.1M height restriction\, so be careful if you are carrying bike on your roof. \nWe will stop at for snacks and beverages at the newly refurbished Three Trees Cafe where the coffee is top notch and the bacon sandwiches sublime. Its also fair to say that their car park has the best tarmac of the whole ride so make the most of it 🙂 \nWe roll out at 9am so be sure to arrive in good time. \nThe Three trees Cafe \n \nAdvance/Inter Route\nDistance: 63 Miles\nElevation: 2800 ft\nCoffee stop: Three Trees Cafe @ mile 36\nAddress: Three Trees Farm Shop\, The Ridgeway\, Swindon Wiltshire\, SN4 0HT \n \nSocial /Inter Route\nDistance: 53 Miles\nElevation: 2726 ft\nCoffee stop: Three Trees Cafe @ mile 27\nAddress: Three Trees Farm Shop\, The Ridgeway\, Swindon Wiltshire\, SN4 0HT \n \nThis event is open to all Oakley Pedalers members.\nAway Day events are offered up in addition to the standard Saturday club rides.
URL:https://www.oakleypedalers.co.uk/event/spring-2023-awayday-berkshire-oxfordshire-borders/
LOCATION:Boxford Recreation Ground\, Rood Hill\, Boxford\, Oxfordshire\, RG20 8DD\, United Kingdom
CATEGORIES:Awayday
ATTACH;FMTTYPE=image/jpeg:https://www.oakleypedalers.co.uk/wp-content/uploads/2023/04/three-trees-logo.jpeg
ORGANIZER;CN="OP%20Committee":MAILTO:info@oakleypedalers.co.uk
END:VEVENT
BEGIN:VEVENT
DTSTART;TZID=UTC:20260425T220544
DTEND;TZID=UTC:20260425T220544
DTSTAMP:20260425T220544
CREATED:20220520T055255Z
LAST-MODIFIED:20220520T060944Z
UID:3724-1777154744-1777154744@www.oakleypedalers.co.uk
SUMMARY:Away Day: South Downs.
DESCRIPTION:Please meet up at Bosham and be ready to ride at 9am.    Parking: Pay and Display Public Car Park\, 8 Shore Rd\, Bosham\, Chichester PO18 8HZ £4.10 for the day. Payment by card or coins Route 1: Social and Intermediate riders: Distance: 47 miles Climb: 2237 ft  Wahoo file format:  https://ridewithgps.com/routes/38910829  GPX/Garmin file format: https://connect.garmin.com/modern/course/105654084      Route 2: Advance and Intermediate plus riders Distance:  60 Miles Climb:  2778ft  Wahoo file format:  https://ridewithgps.com/routes/39489818    GPX/Garmin file format: https://connect.garmin.com/modern/course/105654084    Coffee Stop:  The Tea Barn Durleighmarsh Farm\, Petersfield\, GU31 5AX. A great selection of home made cakes\, sandwiches and hot snacks\, with plenty of seating indoors and outside    The Tea Barn at Durleighmarsh is located between Petersfield and Rogate on the A272. https://goo.gl/maps/vUPcpnNgee7WaPPw7   This event is open to all Oakley Pedalers members. Away Day events are offered up in addition to the standard Saturday rides which are still available to ride.
URL:https://www.oakleypedalers.co.uk/event/away-day-south-downs-2/
LOCATION:Shropshire
CATEGORIES:Awayday
ATTACH;FMTTYPE=image/jpeg:https://www.oakleypedalers.co.uk/wp-content/uploads/2022/01/Oakley-field3952_n.jpg
END:VEVENT
END:VCALENDAR