BEGIN:VCALENDAR
VERSION:2.0
PRODID:-//Oakley Pedalers Cycling Club - ECPv6.0.11//NONSGML v1.0//EN
CALSCALE:GREGORIAN
METHOD:PUBLISH
X-ORIGINAL-URL:https://www.oakleypedalers.co.uk
X-WR-CALDESC:Events for Oakley Pedalers Cycling Club
REFRESH-INTERVAL;VALUE=DURATION:PT1H
X-Robots-Tag:noindex
X-PUBLISHED-TTL:PT1H
BEGIN:VTIMEZONE
TZID:UTC
BEGIN:STANDARD
TZOFFSETFROM:+0000
TZOFFSETTO:+0000
TZNAME:UTC
DTSTART:20230101T000000
END:STANDARD
END:VTIMEZONE
BEGIN:VEVENT
DTSTART;TZID=UTC:20230806T090000
DTEND;TZID=UTC:20230806T150000
DTSTAMP:20260425T122829
CREATED:20230417T071655Z
LAST-MODIFIED:20230417T071655Z
UID:4238-1691312400-1691334000@www.oakleypedalers.co.uk
SUMMARY:OP Sourdough Sunday: Big Wheel Route
DESCRIPTION:Save the date:  Sunday  6 August 2023\nSourdough Sunday: Big Wheel Routes. \nDetails and Route coming soon \nThis event is open to all Oakley Pedalers members.\nAway Day events are offered up in addition to the standard Saturday rides which are still available to ride.
URL:https://www.oakleypedalers.co.uk/event/op-sourdough-sunday-big-wheel-route/
LOCATION:Shropshire
CATEGORIES:Super Saturday
ORGANIZER;CN="OP%20Committee":MAILTO:info@oakleypedalers.co.uk
END:VEVENT
END:VCALENDAR